BEGIN:VCALENDAR
PRODID:NingEventWidget-v1
VERSION:2.0
METHOD:PUBLISH
BEGIN:VEVENT
UID:4320450:Event:31312
DTSTAMP:20260425T185624Z
SUMMARY:The Whitest Kids You Know
DESCRIPTION:The famous NYC based comedy troupe \"The Whitest Kids You 
 Know\" are making an appearance at the Trocadero this Thursday.   Yo
 u better believe some of their ridiculous characters they established 
 on the Fuse network will be making an appearance!\n\nFor more informat
 ion visit http://phillytodo.com/events/the-whitest-kids-you-know
DTSTART:20130322T000000Z
DTEND:20130322T030000Z
CATEGORIES:sketch, comedy
LOCATION:The Trocadero
WEBSITE:https://www.ticketfly.com/event/215127
URL:https://www.ticketfly.com/event/215127
CONTACT:
ORGANIZER;CN="Adam Rybarczyk @FoodPhreak":http://phillytodo.com/profil
 e/AdamRybarczyk
ATTACH;FMTTYPE="image/jpeg":
ATTENDEE;ROLE=REQ-PARTICIPANT;PARTSTAT=ACCEPTED;RSVP=TRUE;CN="Adam Ryb
 arczyk @FoodPhreak":http://phillytodo.com/profile/AdamRybarczyk
END:VEVENT
END:VCALENDAR
