BEGIN:VCALENDAR
PRODID:NingEventWidget-v1
VERSION:2.0
METHOD:PUBLISH
BEGIN:VEVENT
UID:4320450:Event:3933
DTSTAMP:20260425T142656Z
SUMMARY:The White Tie Ball at The Bellevue
DESCRIPTION:The inaugural White Tie Ball will deliver world-class cuis
 ine, designer cocktails, a soulful 11-piece band (Philadelphia Funk Au
 thority), and a runway production featuring top boutiques and designer
 s from around the region - all amidst the grandeur of one of Philadelp
 hia's most stylish settings.\n \nFor more information: http://www.Up
 comingEvents.com/event/6305/\n\nFor more information visit http://phil
 lytodo.com/events/the-white-tie-ball-at-the
DTSTART:20110312T010000Z
DTEND:20110312T070000Z
CATEGORIES:special, black, tie, event
LOCATION:Park Hyatt at the Bellevue
WEBSITE:http://www.UpcomingEvents.com/event/6305/ptodo/
URL:http://www.UpcomingEvents.com/event/6305/ptodo/
CONTACT:
ORGANIZER;CN="UpcomingEvents.com":http://phillytodo.com/profile/Upcomi
 ngEventscom
ATTACH;FMTTYPE="image/jpeg":http://storage.ning.com/topology/rest/1.0/
 file/get/3054953998?profile=original
ATTENDEE;ROLE=REQ-PARTICIPANT;PARTSTAT=ACCEPTED;RSVP=TRUE;CN="Upcoming
 Events.com":http://phillytodo.com/profile/UpcomingEventscom
END:VEVENT
END:VCALENDAR
