BEGIN:VCALENDAR
PRODID:NingEventWidget-v1
VERSION:2.0
METHOD:PUBLISH
BEGIN:VEVENT
UID:4320450:Event:49747
DTSTAMP:20260425T124843Z
SUMMARY:The White Devil by John Webster
DESCRIPTION:The Philadelphia Artists’ Collective presents White Devi
 l by John Webster from May 3 to 20, 2017, at Broad Street Ministry (31
 5 S Broad Street). Infidelity, adultery and betrayal spark a seething 
 retribution. Passions are revealed as the body count rises and blood r
 uns cold. John Webster's taut Jacobean tragedy explores the violence t
 eeming underneath the veneer of a civilized society. Featuring Charlot
 te Northeast as Vittoria, on trial for the murder of her husband, and 
 Dan Hodge as her less-than-upright brother Flaminio. Directed by Damon
  Benetti. Tickets are on sale now for $10 to $25 and can be purchased 
 at www.philartistscollective.org.\n\nFor more information visit http:/
 /phillytodo.com/events/the-white-devil-by-john-webster
DTSTART:20170504T000000Z
DTEND:20170521T000000Z
CATEGORIES:theater
LOCATION:Broad Street Ministries
WEBSITE:http://www.brownpapertickets.com/event/2602117
URL:http://www.brownpapertickets.com/event/2602117
CONTACT:215-551-1543
ORGANIZER;CN="Aversa PR & Events":http://phillytodo.com/profile/KoryAv
 ersa277
ATTACH;FMTTYPE="image/jpeg":http://storage.ning.com/topology/rest/1.0/
 file/get/3055002803?profile=original
ATTENDEE;ROLE=REQ-PARTICIPANT;PARTSTAT=ACCEPTED;RSVP=TRUE;CN="Aversa P
 R & Events":http://phillytodo.com/profile/KoryAversa277
END:VEVENT
END:VCALENDAR
