BEGIN:VCALENDAR
PRODID:NingEventWidget-v1
VERSION:2.0
METHOD:PUBLISH
BEGIN:VEVENT
UID:4320450:Event:39830
DTSTAMP:20260425T112507Z
SUMMARY:“The Whale” by Samuel D. Hunter
DESCRIPTION:Theatre Exile presents the Philadelphia premiere of The Wh
 ale by Samuel D. Hunter from February 5 to March 1, 2015 at Theatre Ex
 ile’s Studio X, 1340 S. 13th Street (13th and Reed Street). This big
 -hearted but darkly comic story is about a 600-pound man’s last chan
 ce\nfor acceptance and redemption as he struggles to connect in the 21
 st century. Scott Greer, an Exile favorite that has teamed up with Pfe
 iffer in Exile’s North of the Boulevard and Shining City, plays the 
 main character Charlie. Greer will be fitted with a specially designed
  costume by Costume Designer Alison Roberts. The final costume will ta
 ke Greer at least an hour to put on for each performance, and is prime
 d to be one of the most memorable images in recent times on a Philadel
 phia stage. Directed by Associate Artistic Director Matt Pfeiffer. Pre
 views begin on Thursday, February 5, and opening  night is Wednesday,
  February 11 at 8:00pm. Tickets are on sale now for $10.00 to $40.00 a
 t www.theatreexile.org or by phone (215) 218-4022.\n\nFor more informa
 tion visit http://phillytodo.com/events/the-whale-by-samuel-d-hunter
DTSTART:20150206T010000Z
DTEND:20150302T030000Z
CATEGORIES:theatre, performance
LOCATION:Theatre Exile - Studio X
WEBSITE:http://theatreexile.org
URL:http://theatreexile.org
CONTACT:215-218-4022
ORGANIZER;CN="Aversa PR & Events":http://phillytodo.com/profile/KoryAv
 ersa277
ATTACH;FMTTYPE="image/jpeg":http://storage.ning.com/topology/rest/1.0/
 file/get/3054985479?profile=original
ATTENDEE;ROLE=REQ-PARTICIPANT;PARTSTAT=ACCEPTED;RSVP=TRUE;CN="Aversa P
 R & Events":http://phillytodo.com/profile/KoryAversa277
END:VEVENT
END:VCALENDAR
