BEGIN:VCALENDAR
PRODID:NingEventWidget-v1
VERSION:2.0
METHOD:PUBLISH
BEGIN:VEVENT
UID:4320450:Event:36127
DTSTAMP:20260425T144322Z
SUMMARY:The Walking Dead Dinner and Viewing Party
DESCRIPTION:The zombie apocalypse is upon us, andÂ Davioâ€™s Philadelp
 hiaÂ is ready for the feeding frenzy! Prepare forÂ The Walking DeadÂ S
 eason FinaleÂ viewing party and wine dinner with hostÂ Jason Sheehan o
 fÂ fooboozÂ onÂ March 30th, 2014.Â Executive Chef Chris TavaresÂ has p
 repared a dinner menu that is to die for. Guests will enjoy aÂ three c
 ourse prix-fixe menuÂ of deadly deliciousÂ entrÃ©eswith wine pairingsÂ
  ($125 per person). The menu features familiar flavors such as the fam
 ousÂ Philly Cheesesteak Spring Rolls,Â Ahi Carpacio Caprese, andÂ Bran
 dt Beef Filet,Â disguised as food fit only for flesh-eating zombies. E
 njoy the gory goodness while watching the season finale at Davioâ€™s P
 hiladelphiaâ€¦ We promise youâ€™ll get out alive.\n\nÂ \nWalking Dead 
 Dinner Menu\nÂ \nPassed Hors dâ€™oeuvres\nDavioâ€™s Philly Cheesesteak
  Spring Rolls\nSpiced Lamb en Croute\nBorsch Gazpacho with Grilled Shr
 imp\nPesto Deviled Eggs\nGrappa cured Striped Bass\nÂ \nFirst Course\n
 Ahi Carpaccio Caprese, Buffalo Mozzarella, Campari Tomato, Basil, Bals
 amic Reduction\nWine Pairing: Sauvignon Blanc\nÂ \nSecond Course\nSurf
  and Turf, Brandt Beef Filet, Marrow, Maine Lobster, Coral Butter\nWin
 e Pairing: Pinot Noir\nÂ \nThird Course\nRed Velvet Cake, Amareno Cher
 ries, Philadelphia CrÃ¨me Anglaise\nWine Pairing: Prosecco\nÂ \nFull D
 inner Menu Also Available\n\nFor more information visit http://phillyt
 odo.com/events/the-walking-dead-dinner-and-viewing-party
DTSTART:20140331T000000Z
DTEND:20140331T020000Z
CATEGORIES:food, and, wine
LOCATION:Davio's Northern Italian Steakhouse
WEBSITE:http://www.davios.com/phil
URL:http://www.davios.com/phil
CONTACT:215 563 4810
ORGANIZER:Anny Deese
ATTACH;FMTTYPE="image/jpeg":
ATTENDEE;ROLE=REQ-PARTICIPANT;PARTSTAT=ACCEPTED;RSVP=TRUE;CN="Juliette
  V":http://phillytodo.com/profile/JulietteV
END:VEVENT
END:VCALENDAR
