BEGIN:VCALENDAR
PRODID:NingEventWidget-v1
VERSION:2.0
METHOD:PUBLISH
BEGIN:VEVENT
UID:4320450:Event:17402
DTSTAMP:20260425T161252Z
SUMMARY:The Velvet Lily 2nd Anniversary Party
DESCRIPTION:The Velvet Lily is celebrating 2 years of helping Philadel
 phians add more pleasure to their lives! Let's party!!Special Cocktail
 s and WineDance MusicFire Dancers by PLOOMEMale & Female Pole Dancersp
 lus 15% off all items in-store!\n\nFor more information visit http://p
 hillytodo.com/events/the-velvet-lily-2nd-anniversary-party
DTSTART:20110910T230000Z
DTEND:20110911T020000Z
CATEGORIES:anniversary, party
LOCATION:The Velvet Lily
WEBSITE:http://www.thevelvetlily.com/pages/events
URL:http://www.thevelvetlily.com/pages/events
CONTACT:800.328.5459
ORGANIZER:Khara Cartagena
ATTACH;FMTTYPE="image/jpeg":http://storage.ning.com/topology/rest/1.0/
 file/get/3054957887?profile=original
ATTENDEE;ROLE=REQ-PARTICIPANT;PARTSTAT=ACCEPTED;RSVP=TRUE;CN="Meghan D
 uffey":http://phillytodo.com/profile/MeghanDuffey
END:VEVENT
END:VCALENDAR
