BEGIN:VCALENDAR
PRODID:NingEventWidget-v1
VERSION:2.0
METHOD:PUBLISH
BEGIN:VEVENT
UID:4320450:Event:2162
DTSTAMP:20260425T173712Z
SUMMARY:The Velvet Lily 1 Year Anniversary
DESCRIPTION:\nPole Dancers, Music, and Fun\n\nFor more information vis
 it http://phillytodo.com/events/the-velvet-lily-1-year
DTSTART:20100911T010000Z
DTEND:20100911T020000Z
CATEGORIES:1, year, anniversary, party
LOCATION:Liberties Walk, Northern Liberties
WEBSITE:http://www.thevelvetlily.com
URL:http://www.thevelvetlily.com
CONTACT:800.328.5459
ORGANIZER;CN="The Velvet Lily":http://phillytodo.com/profile/KharaCart
 agena268
ATTACH;FMTTYPE="image/jpeg":http://storage.ning.com/topology/rest/1.0/
 file/get/3054950092?profile=original
ATTENDEE;ROLE=REQ-PARTICIPANT;PARTSTAT=ACCEPTED;RSVP=TRUE;CN="The Velv
 et Lily":http://phillytodo.com/profile/KharaCartagena268
END:VEVENT
END:VCALENDAR
