BEGIN:VCALENDAR
PRODID:NingEventWidget-v1
VERSION:2.0
METHOD:PUBLISH
BEGIN:VEVENT
UID:4320450:Event:32216
DTSTAMP:20260425T125100Z
SUMMARY:The Ultimate Networking Live at Top Dog!
DESCRIPTION:Real world networking is essential for you to build and cr
 eate relationships. Having the skills to network effectively in today'
 s challenging business climate, is critical and could make the differe
 nce between thriving or losing to your competitors.  At The Ultimate N
 etworking Event you'll meet CEO's, Business Leaders and Decision maker
 s from a variety of leading companies. You will learn and have opportu
 nities to grow your business from some of the area's top business netw
 orking professional's.  Why Should You Come to Ultimate Networking?  W
 e are all only one contact away from our greatest success in life. The
  funny thing is, we don’t know who that is or where and when we will
  meet them. That being said, you want to be sure where and when to spe
 nd your time wisely in order to maximize your potential to meet that c
 ontact. When creating the event, the name had to tell it all and also 
 become the result of the event. What better than The Ultimate Networki
 ng Event to meet the Ultimate Professional, Create The Ultimate Busine
 ss relationship, that in turn to become Your Ultimate Business Success
 .  Are you Shy? Hesitant to introduce yourself to others?  Each event 
 has a team of Ultimate Network Ambassadors who are seasoned networkers
  and eager to help you make connections.  Ultimate Networking Events, 
 are designed to allow you to meet other like minded, business people, 
 learn valuable networking skills, and create meaningful business relat
 ionships.\n\nFor more information visit http://phillytodo.com/events/t
 he-ultimate-networking-live-at-top-dog
DTSTART:20130514T220000Z
DTEND:20130515T010000Z
CATEGORIES:business, to, networking, social, events, sites, happy, hou
 r, netwoking, mlm, single, learning, mixer, function, event, afte
LOCATION:Top Dog
WEBSITE:http://theultimatenetworkingeventnj-grtix.eventbrite.com
URL:http://theultimatenetworkingeventnj-grtix.eventbrite.com
CONTACT:
ORGANIZER;CN="UpcomingEvents.com":http://phillytodo.com/profile/Upcomi
 ngEventscom
ATTACH;FMTTYPE="image/jpeg":http://storage.ning.com/topology/rest/1.0/
 file/get/3054954297?profile=original
ATTENDEE;ROLE=REQ-PARTICIPANT;PARTSTAT=ACCEPTED;RSVP=TRUE;CN="Upcoming
 Events.com":http://phillytodo.com/profile/UpcomingEventscom
END:VEVENT
END:VCALENDAR
