BEGIN:VCALENDAR
PRODID:NingEventWidget-v1
VERSION:2.0
METHOD:PUBLISH
BEGIN:VEVENT
UID:4320450:Event:27005
DTSTAMP:20260425T130705Z
SUMMARY:The Ultimate Networking Event Live at Top Dog Cherry Hill
DESCRIPTION:Real world networking is essential for you to build and cr
 eate relationships. Having the skills to network effectively in today'
 s challenging business climate is critical and could make the differen
 ce between thriving or losing to your competitors.\n \nAt The Ultimat
 e Networking Event you'll meet CEOs, business leaders and decision mak
 ers from a variety of leading companies. You will learn and have oppor
 tunities to grow your business from some of the area's top business ne
 tworking professionals.\n \nWhy Should You Come to Ultimate Networkin
 g?\n \nWe are all only one contact away from our greatest success in 
 life. The funny thing is, we don’t know whom that is or where and wh
 en we will meet them. That being said, you want to be sure where and w
 hen to spend your time wisely in order to maximize your potential to m
 eet that contact. When creating the event, the name had to tell it all
  and also become the result of the event. What better than The Ultimat
 e Networking Event to meet the ultimate professional, create the ultim
 ate business relationship, that in turn to become your ultimate busine
 ss success.\n \nAre you shy? Hesitant to introduce yourself to others
 ?\n \nEach event has a team of Ultimate Network Ambassadors who are s
 easoned networkers and eager to help you make connections.\n \nUltima
 te Networking Events, are designed to allow you to meet other like min
 ded, business people, learn valuable networking skills, and create mea
 ningful business relationships.\n\nFor more information visit http://p
 hillytodo.com/events/the-ultimate-networking-event-live-at-top-dog-che
 rry-hill
DTSTART:20120626T220000Z
DTEND:20120627T010000Z
CATEGORIES:networking, event
LOCATION:Top Dog
WEBSITE:http://theultimatenetworkingevent626-ucepost.eventbrite.com
URL:http://theultimatenetworkingevent626-ucepost.eventbrite.com
CONTACT:
ORGANIZER;CN="UpcomingEvents.com":http://phillytodo.com/profile/Upcomi
 ngEventscom
ATTACH;FMTTYPE="image/jpeg":http://storage.ning.com/topology/rest/1.0/
 file/get/3054954297?profile=original
ATTENDEE;ROLE=REQ-PARTICIPANT;PARTSTAT=ACCEPTED;RSVP=TRUE;CN="Upcoming
 Events.com":http://phillytodo.com/profile/UpcomingEventscom
END:VEVENT
END:VCALENDAR
