BEGIN:VCALENDAR
PRODID:NingEventWidget-v1
VERSION:2.0
METHOD:PUBLISH
BEGIN:VEVENT
UID:4320450:Event:29735
DTSTAMP:20260425T130827Z
SUMMARY:The Ultimate Networking Event Live at SugarHouse Casino
DESCRIPTION:Real world networking is essential for you to build and cr
 eate relationships. Having the skills to network effectively in today'
 s challenging business climate, is critical and could make the differe
 nce between thriving or losing to your competitors.  At The Ultimate N
 etworking Event you'll meet CEO's, Business Leaders and Decision maker
 s from a variety of leading companies. You will learn and have opportu
 nities to grow your business from some of the area's top business netw
 orking professional's.  Why Should You Come to Ultimate Networking?  W
 e are all only one contact away from our greatest success in life. The
  funny thing is, we don’t know who that is or where and when we will
  meet them. That being said, you want to be sure where and when to spe
 nd your time wisely in order to maximize your potential to meet that c
 ontact. When creating the event, the name had to tell it all and also 
 become the result of the event. What better than The Ultimate Networki
 ng Event to meet the Ultimate Professional, Create The Ultimate Busine
 ss relationship, that in turn to become Your Ultimate Business Success
 .  Ultimate Networking Events, are designed to allow you to meet other
  like minded, business people, learn valuable networking skills, and c
 reate meaningful business relationships.\n\nFor more information visit
  http://phillytodo.com/events/the-ultimate-networking-event-live-at-su
 garhouse-casino
DTSTART:20130305T230000Z
DTEND:20130306T020000Z
CATEGORIES:business, networking
LOCATION:SugarHouse Casino
WEBSITE:http://theultimatenetworkingevent-gr.eventbrite.com/
URL:http://theultimatenetworkingevent-gr.eventbrite.com/
CONTACT:
ORGANIZER:The Ultimate Networking Group
ATTACH;FMTTYPE="image/jpeg":
ATTENDEE;ROLE=REQ-PARTICIPANT;PARTSTAT=ACCEPTED;RSVP=TRUE;CN="Upcoming
 Events.com":http://phillytodo.com/profile/UpcomingEventscom
END:VEVENT
END:VCALENDAR
