BEGIN:VCALENDAR
PRODID:NingEventWidget-v1
VERSION:2.0
METHOD:PUBLISH
BEGIN:VEVENT
UID:4320450:Event:27633
DTSTAMP:20260425T132923Z
SUMMARY:The Ultimate Networking Event Live at North Shore Beach Club
DESCRIPTION:Real world networking is essential for you to build and cr
 eate relationships. Having the skills to network effectively in today'
 s challenging business climate, is critical and could make the differe
 nce between thriving or losing to your competitors.\n \nAt The Ultima
 te Networking Event you'll meet CEO's, Business Leaders and Decision m
 akers from a variety of leading companies. You will learn and have opp
 ortunities to grow your business from some of the area's top business 
 networking professionals.\n \nWhy The Ultimate Networking Event?\n \
 nIn today's economy, people don't care what you know, until they know 
 that you care. Who better to turn to when in the market for a new prod
 uct or service in any industry whether for personal or business, than 
 someone you know and trust, or, someone you know that refers them to s
 omeone they know and trust?\n \nThat's where live business networking
  comes in. The Ultimate Networking Event is designed with the success 
 of it's attendees as the top priority! When you attend The Ultimate Ne
 tworking Event Live, you will be greeted by a professional networker, 
 an Ultimate Networking Ambassador. These individuals have proven thems
 elves time and time again in the business networking arena and is ther
 e to help you maximize your success at that event by asking you key qu
 estions and introducing you to the right professionals to assure your 
 maximum success that evening.\n \nWhy Should You Come?\n \nWe are al
 l only one contact away from our greatest success in life. The funny t
 hing is, we don't know who that is or where and when we will meet them
 . That being said, you want to be sure where and when to spend your ti
 me wisely in order to maximize your potential to meet that contact. Wh
 en creating the event, the name had to tell it all and also become the
  result of the event. What better than The Ultimate Networking Event t
 o meet the Ultimate Professional, Create The Ultimate Business relatio
 nsh\n\nFor more information visit http://phillytodo.com/events/the-ult
 imate-networking-event-live-at-north-shore-beach-club
DTSTART:20120821T220000Z
DTEND:20120822T010000Z
CATEGORIES:networking, event
LOCATION:North Shore Beach Club
WEBSITE:
URL:
CONTACT:
ORGANIZER;CN="UpcomingEvents.com":http://phillytodo.com/profile/Upcomi
 ngEventscom
ATTACH;FMTTYPE="image/jpeg":http://storage.ning.com/topology/rest/1.0/
 file/get/3054954297?profile=original
ATTENDEE;ROLE=REQ-PARTICIPANT;PARTSTAT=ACCEPTED;RSVP=TRUE;CN="Upcoming
 Events.com":http://phillytodo.com/profile/UpcomingEventscom
END:VEVENT
END:VCALENDAR
