BEGIN:VCALENDAR
PRODID:NingEventWidget-v1
VERSION:2.0
METHOD:PUBLISH
BEGIN:VEVENT
UID:4320450:Event:31785
DTSTAMP:20260425T113101Z
SUMMARY:The Ultimate Networking Event Live at Harvest Seasonal Grill
DESCRIPTION:Real world networking is essential for you to build and cr
 eate relationships. Having the skills to network effectively in today'
 s challenging business climate, is critical and could make the differe
 nce between thriving or losing to your competitors.\n \nAt The Ultima
 te Networking Event you'll meet CEO's, Business Leaders and Decision m
 akers from a variety of leading companies. You will learn and have opp
 ortunities to grow your business from some of the area's top business 
 networking professional's.\n \nWhy Should You Come to Ultimate Networ
 king?\n \nWe are all only one contact away from our greatest success 
 in life. The funny thing is, we don’t know who that is or where and 
 when we will meet them. That being said, you want to be sure where and
  when to spend your time wisely in order to maximize your potential to
  meet that contact. When creating the event, the name had to tell it a
 ll and also become the result of the event. What better than The Ultim
 ate Networking Event to meet the Ultimate Professional, Create The Ult
 imate Business relationship, that in turn to become Your Ultimate Busi
 ness Success.\n \nAre you Shy? Hesitant to introduce yourself to othe
 rs?\n \nEach event has a team of Ultimate Network Ambassadors who are
  seasoned networkers and eager to help you make connections.\n \nUlti
 mate Networking Events, are designed to allow you to meet other like m
 inded, business people, learn valuable networking skills, and create m
 eaningful business relationships.\n\nFor more information visit http:/
 /phillytodo.com/events/the-ultimate-networking-event-live-at-harvest-s
 easonal-grill
DTSTART:20130507T220000Z
DTEND:20130508T010000Z
CATEGORIES:business, to, networking, social, events, sites, happy, hou
 r, mlm, single, learning, mixer, function, event, aft
LOCATION:Harvest Seasonal Grill & Wine Bar
WEBSITE:http://theultimatenetworkingeventlive-gr.eventbrite.com
URL:http://theultimatenetworkingeventlive-gr.eventbrite.com
CONTACT:
ORGANIZER;CN="UpcomingEvents.com":http://phillytodo.com/profile/Upcomi
 ngEventscom
ATTACH;FMTTYPE="image/jpeg":http://storage.ning.com/topology/rest/1.0/
 file/get/3054954297?profile=original
ATTENDEE;ROLE=REQ-PARTICIPANT;PARTSTAT=ACCEPTED;RSVP=TRUE;CN="Upcoming
 Events.com":http://phillytodo.com/profile/UpcomingEventscom
END:VEVENT
END:VCALENDAR
