BEGIN:VCALENDAR
PRODID:NingEventWidget-v1
VERSION:2.0
METHOD:PUBLISH
BEGIN:VEVENT
UID:4320450:Event:18601
DTSTAMP:20260425T162029Z
SUMMARY:The Ultimate Networking Event Live at Field House
DESCRIPTION:Real world networking is essential to build and create rel
 ationships. Having the skills to network effectively in today's challe
 nging business climate, is critical and could make the difference betw
 een thriving or losing to your competitors.Why The Ultimate Networking
  Event?People don't care what you know, until they know that you care.
  Who better to turn to when in the market for a new product or service
  in any industry, than someone you know and trust.That's where live bu
 siness networking comes in. The Ultimate Networking Event is designed 
 with the success of it's attendees as a priority and goal. When you at
 tend The Ultimate Networking Event Live, you will be greeted by a prof
 essional networker, an Ultimate Networking Ambassador. Ambassadors  h
 ave proven themselves in the business networking arena and are there t
 o help you maximize your success. They will ask you key questions and 
 introduce you to the right professionals to assure your maximum succes
 s that evening.\n\nFor more information visit http://phillytodo.com/ev
 ents/the-ultimate-networking-event-live-at-field-house-1
DTSTART:20111004T220000Z
DTEND:20111005T010000Z
CATEGORIES:"business/networking"
LOCATION:Field House
WEBSITE:
URL:
CONTACT:
ORGANIZER;CN="UpcomingEvents.com":http://phillytodo.com/profile/Upcomi
 ngEventscom
ATTACH;FMTTYPE="image/jpeg":
ATTENDEE;ROLE=REQ-PARTICIPANT;PARTSTAT=ACCEPTED;RSVP=TRUE;CN="Upcoming
 Events.com":http://phillytodo.com/profile/UpcomingEventscom
END:VEVENT
END:VCALENDAR
