BEGIN:VCALENDAR
PRODID:NingEventWidget-v1
VERSION:2.0
METHOD:PUBLISH
BEGIN:VEVENT
UID:4320450:Event:16302
DTSTAMP:20260425T160811Z
SUMMARY:The Ultimate Networking Event Live at Aloft
DESCRIPTION:Real world networking is essential for you to build and cr
 eate relationships. Having the skills to network effectively in today'
 s challenging business climate, is critical and could make the differe
 nce between thriving or losing to your competitors.At The Ultimate Ne
 tworking Event you'll meet CEO's, Business Leaders and Decision maker
 s from a variety of leading companies. You will learn and have opportu
 nities to grow your business from some of the area's top business netw
 orking professional's.\nWhy The Ultimate Networking Event?In today's e
 conomy, people don't care what you know, until they know that you care
 . Who better to turn to when in the market for a new product or servic
 e in any industry whether for personal or business, than someone you k
 now and trust, or, someone you know that refers them to someone they k
 now and trust? That's where live business networking comes in. The Ul
 timate Networking Event is designed with the success of it's attendees
  as it's 1st priority and goal. When you attend The Ultimate Networkin
 g Event Live, you will be greeted by a professional networker, an Ulti
 mate Networking Ambassador. These individuals have proven themselves t
 ime and time again in the business networking arena and is there to he
 lp you maximize your success at that event by asking you key questions
  and introducing you to the right professionals to assure your maximum
  success that evening.Why Should You Come?We are all only one contact 
 away from our greatest success in life. The funny thing is, we don't k
 now who that is or where and when we will meet them. That being said, 
 you want to be sure where and when to spend your time wisely in order 
 to maximize your potential to meet that contact. When creating the eve
 nt, the name had to tell it all and also become the result of the even
 t. What better than The Ultimate Networking Event to meet the Ultimate
  Professional, Create The Ultimate Business relationship, that in turn
  to become Your Ultimate Business Success.\n\nFor more information vis
 it http://phillytodo.com/events/the-ultimate-networking-event-live-at-
 aloft
DTSTART:20110816T220000Z
DTEND:20110817T010000Z
CATEGORIES:business, networking, event
LOCATION:Aloft Hotel
WEBSITE:http://www.UpcomingEvents.com/event/8378/ptodo
URL:http://www.UpcomingEvents.com/event/8378/ptodo
CONTACT:
ORGANIZER;CN="UpcomingEvents.com":http://phillytodo.com/profile/Upcomi
 ngEventscom
ATTACH;FMTTYPE="image/jpeg":http://storage.ning.com/topology/rest/1.0/
 file/get/3054954838?profile=original
ATTENDEE;ROLE=REQ-PARTICIPANT;PARTSTAT=ACCEPTED;RSVP=TRUE;CN="Upcoming
 Events.com":http://phillytodo.com/profile/UpcomingEventscom
END:VEVENT
END:VCALENDAR
