BEGIN:VCALENDAR
PRODID:NingEventWidget-v1
VERSION:2.0
METHOD:PUBLISH
BEGIN:VEVENT
UID:4320450:Event:18106
DTSTAMP:20260425T185622Z
SUMMARY:The Ultimate Networking Event Live at Aloft
DESCRIPTION:The Ultimate Networking Event is designed with the success
  of it's attendees as it's 1st priority and goal. When you attend The 
 Ultimate Networking Event Live, you will be greeted by a professional 
 networker, an Ultimate Networking Ambassador. These individuals have p
 roven themselves time and time again in the business networking arena 
 and is there to help you maximize your success at that event by asking
  you key questions and introducing you to the right professionals to a
 ssure your maximum success that evening.\n\nFor more information visit
  http://phillytodo.com/events/the-ultimate-networking-event-live-at-al
 oft-1
DTSTART:20110920T220000Z
DTEND:20110921T010000Z
CATEGORIES:business, networking, event
LOCATION:Aloft Hotel (Mount Laurel)
WEBSITE:http://www.UpcomingEvents.com/event/8576/
URL:http://www.UpcomingEvents.com/event/8576/
CONTACT:
ORGANIZER;CN="UpcomingEvents.com":http://phillytodo.com/profile/Upcomi
 ngEventscom
ATTACH;FMTTYPE="image/jpeg":http://storage.ning.com/topology/rest/1.0/
 file/get/3054957963?profile=original
ATTENDEE;ROLE=REQ-PARTICIPANT;PARTSTAT=ACCEPTED;RSVP=TRUE;CN="Upcoming
 Events.com":http://phillytodo.com/profile/UpcomingEventscom
END:VEVENT
END:VCALENDAR
