BEGIN:VCALENDAR
PRODID:NingEventWidget-v1
VERSION:2.0
METHOD:PUBLISH
BEGIN:VEVENT
UID:4320450:Event:12612
DTSTAMP:20260425T163636Z
SUMMARY:The Ultimate Networking Event Live at Chenango
DESCRIPTION:Real world networking is essential for you to build and cr
 eate relationships. Having the skills to network effectively in today'
 s challenging business climate, is critical and could make the differe
 nce between thriving or losing to your competitors . The Ultimate Net
 working Event, is designed to allow you to meet other like minded, bus
 iness people, learn valuable networking skills, and create meaningful 
 business relationships.\nWhy The Ultimate Networking Event?In today's 
 economy, people don't care what you know, until they know that you car
 e. Who better to turn to when in the market for a new product or servi
 ce in any industry whether for personal or business, than someone you 
 know and trust, or, someone you know that refers them to someone they 
 know and trust? That's where live business networking comes in. The U
 ltimate Networking Event is designed with the success of it's attendee
 s as it's 1st priority and goal. When you attend The Ultimate Networki
 ng Event Live, you will be greeted by a professional networker, an Ult
 imate Networking Ambassador. These individuals have proven themselves 
 time and time again in the business networking arena and is there to h
 elp you maximize your success at that event by asking you key question
 s and introducing you to the right professionals to assure your maximu
 m success that evening.Why Should You Come?We are all only one contact
  away from our greatest success in life. The funny thing is, we don't 
 know who that is or where and when we will meet them. That being said,
  you want to be sure where and when to spend your time wisely in order
  to maximize your potential to meet that contact. When creating the ev
 ent, the name had to tell it all and also become the result of the eve
 nt. What better than The Ultimate Networking Event to meet the Ultimat
 e Professional, Create The Ultimate Business relationship, that in tur
 n to become Your Ultimate Business Success.\n\nFor more information vi
 sit http://phillytodo.com/events/the-ultimate-networking-event-8
DTSTART:20110712T220000Z
DTEND:20110713T010000Z
CATEGORIES:business, networking
LOCATION:Chenango
WEBSITE:http://theultimatenetworkingeventpa-uce.eventbrite.com/
URL:http://theultimatenetworkingeventpa-uce.eventbrite.com/
CONTACT:
ORGANIZER;CN="UpcomingEvents.com":http://phillytodo.com/profile/Upcomi
 ngEventscom
ATTACH;FMTTYPE="image/jpeg":http://storage.ning.com/topology/rest/1.0/
 file/get/3054954297?profile=original
ATTENDEE;ROLE=REQ-PARTICIPANT;PARTSTAT=ACCEPTED;RSVP=TRUE;CN="Upcoming
 Events.com":http://phillytodo.com/profile/UpcomingEventscom
END:VEVENT
END:VCALENDAR
