BEGIN:VCALENDAR
PRODID:NingEventWidget-v1
VERSION:2.0
METHOD:PUBLISH
BEGIN:VEVENT
UID:4320450:Event:26125
DTSTAMP:20260425T160937Z
SUMMARY:The Ultimate Beer Tasting – Suds and Sliders
DESCRIPTION:Come on our for our VIP \"Ultimate Beer Tasting\" Event at
  GiGi Restaurant & Lounge on Thursday April 26th at 6:30pm - \"Suds & 
 Sliders\".  Grab your friends, family, and co-workers, you are in for
  a special treat!  This awesome event will feature craft beers, food,
  ambiance, atmosphere, and new friends to mingle with all while learni
 ng about beer & food.\n\nFor more information visit http://phillytodo.
 com/events/the-ultimate-beer-tasting-suds-and-sliders
DTSTART:20120426T223000Z
DTEND:20120427T010000Z
CATEGORIES:beer, tasting
LOCATION:Gigi Restaurant
WEBSITE:http://www.upcomingevents.com/event/10096/ptodo
URL:http://www.upcomingevents.com/event/10096/ptodo
CONTACT:
ORGANIZER;CN="UpcomingEvents.com":http://phillytodo.com/profile/Upcomi
 ngEventscom
ATTACH;FMTTYPE="image/jpeg":http://storage.ning.com/topology/rest/1.0/
 file/get/3054958285?profile=original
ATTENDEE;ROLE=REQ-PARTICIPANT;PARTSTAT=ACCEPTED;RSVP=TRUE;CN="Upcoming
 Events.com":http://phillytodo.com/profile/UpcomingEventscom
END:VEVENT
END:VCALENDAR
