BEGIN:VCALENDAR
PRODID:NingEventWidget-v1
VERSION:2.0
METHOD:PUBLISH
BEGIN:VEVENT
UID:4320450:Event:54820
DTSTAMP:20260425T112752Z
SUMMARY:The Twisted Tail Hosts Ultimate Whiskey Tasting Event with Üb
 er-Exclusive Old Rip Van Winkle 25 Year
DESCRIPTION:The Twisted Tail is hosting an exclusive Owner’s Collect
 ion Tasting of the über-rare Old Rip Van Winkle 25 Year on Friday, Fe
 bruary 2 from 7 to 9 p.m.\n \nHeadhouse Square’s Southern-influence
 d restaurant and music venue won one of only 710 bottles released worl
 dwide through the Pennsylvania Limited-Release Lottery. In addition to
  sampling Old Rip Van Winkle’s oldest batch ever released, guests ca
 n enjoy four other rare whiskeys:\n\nPappy Van Winkle 20 Year\nWild Tu
 rkey Master’s Keep Decades\nAngel’s Envy Cask Strength\nEH Taylor 
 Four Grain\n\nTickets are available here for $425. \n\nFor more inf
 ormation visit http://phillytodo.com/events/the-twisted-tail-hosts-ult
 imate-whiskey-tasting-event-with-ber
DTSTART:20180203T000000Z
DTEND:20180203T020000Z
CATEGORIES:whiskey, tasting
LOCATION:The Twisted Tail
WEBSITE:https://www.eventbrite.com/e/owners-collection-whiskey-tasting
 -with-old-rip-van-winkle-25-yr-tickets-41117406269?ref=ebtnebtckt
URL:https://www.eventbrite.com/e/owners-collection-whiskey-tasting-wit
 h-old-rip-van-winkle-25-yr-tickets-41117406269?ref=ebtnebtckt
CONTACT:215-558-2471
ORGANIZER;CN="Punch Media":http://phillytodo.com/profile/PunchMedia
ATTACH;FMTTYPE="image/jpeg":http://storage.ning.com/topology/rest/1.0/
 file/get/3055011211?profile=original
ATTENDEE;ROLE=REQ-PARTICIPANT;PARTSTAT=ACCEPTED;RSVP=TRUE;CN="Punch Me
 dia":http://phillytodo.com/profile/PunchMedia
END:VEVENT
END:VCALENDAR
