BEGIN:VCALENDAR
PRODID:NingEventWidget-v1
VERSION:2.0
METHOD:PUBLISH
BEGIN:VEVENT
UID:4320450:Event:27809
DTSTAMP:20260425T173728Z
SUMMARY:The Trail of the Lorax
DESCRIPTION:A day-long celebration of Dr. Seuss' Trail of the Lorax in
  Chestnut Hill...follow the trail, win prizes and have fun. There'll b
 e arts, crafts, storytelling, The Philadelphia Zoo on Wheels, and more
 . Make sure to stop by The Carol Schwartz Gallery to view an entire ex
 hibit of Dr. Seuss' art.\n\nFor more information visit http://phillyto
 do.com/events/the-trail-of-the-lorax
DTSTART:20120922T160000Z
DTEND:20120922T210000Z
CATEGORIES:community, event
LOCATION:Carol Schwartz Gallery, 101 Bethlehem Pike
WEBSITE:http://www.chestnuthillpa.com
URL:http://www.chestnuthillpa.com
CONTACT:215-247-6696
ORGANIZER:Chestnut Hill Business Association
ATTACH;FMTTYPE="image/jpeg":http://storage.ning.com/topology/rest/1.0/
 file/get/3054958415?profile=original
ATTENDEE;ROLE=REQ-PARTICIPANT;PARTSTAT=ACCEPTED;RSVP=TRUE;CN="Peggy Mi
 ller":http://phillytodo.com/profile/PeggyMiller
END:VEVENT
END:VCALENDAR
