BEGIN:VCALENDAR
PRODID:NingEventWidget-v1
VERSION:2.0
METHOD:PUBLISH
BEGIN:VEVENT
UID:4320450:Event:56229
DTSTAMP:20260425T100125Z
SUMMARY:The Soul Cruisers Perform
DESCRIPTION:Don't miss The Soul Cruisers perform at Xfinity Live! on t
 he Miller Lite Concert Stage on Saturday, August 18.\n\nFor more infor
 mation visit http://phillytodo.com/events/the-soul-cruisers-perform
DTSTART:20180818T230000Z
DTEND:20180819T020000Z
CATEGORIES:live, music
LOCATION:Xfinity Live! Philadelphia
WEBSITE:https://www.xfinitylive.com/entertainment/event/12222
URL:https://www.xfinitylive.com/entertainment/event/12222
CONTACT:
ORGANIZER;CN="XFINITY Live! Philadelphia":http://phillytodo.com/profil
 e/XFINITYLivePhiladelphia
ATTACH;FMTTYPE="image/jpeg":http://storage.ning.com/topology/rest/1.0/
 file/get/3055014981?profile=original
ATTENDEE;ROLE=REQ-PARTICIPANT;PARTSTAT=ACCEPTED;RSVP=TRUE;CN="XFINITY 
 Live! Philadelphia":http://phillytodo.com/profile/XFINITYLivePhiladelp
 hia
END:VEVENT
END:VCALENDAR
