BEGIN:VCALENDAR
PRODID:NingEventWidget-v1
VERSION:2.0
METHOD:PUBLISH
BEGIN:VEVENT
UID:4320450:Event:29573
DTSTAMP:20260425T144417Z
SUMMARY:The Shamrock Celebration - Philly's Largest St Patrick's Day F
 estival!
DESCRIPTION: \nCelebrate St. Patty's Day the right way this year at t
 he Shamrock Celebration in the most incredible location - The Piazza w
 ith 3000+ people and 50+ craft Beers!! Don't miss out on the biggest p
 arty of the year. Let your inner Irish loose!!  Includes cover charge
 , first drink FREE, live bands all day, and MORE!  Tickets from just 
 $15 in advance only.\n \nTickets & Full Details:  http://www.upcomi
 ngevents.com/philadelphia/st-patricks-day-philly-the-piazza/r/ptodo/\n
 \nFor more information visit http://phillytodo.com/events/the-shamrock
 -celebration-philly-s-largest-st-patrick-s-day
DTSTART:20130316T160000Z
DTEND:20130317T060000Z
CATEGORIES:special, event, "indoors/outdoors"
LOCATION:The Piazza at Schmidt's
WEBSITE:http://www.atthepiazza.com/
URL:http://www.atthepiazza.com/
CONTACT:
ORGANIZER;CN="UpcomingEvents.com":http://phillytodo.com/profile/Upcomi
 ngEventscom
ATTACH;FMTTYPE="image/jpeg":http://storage.ning.com/topology/rest/1.0/
 file/get/3054960845?profile=original
ATTENDEE;ROLE=REQ-PARTICIPANT;PARTSTAT=ACCEPTED;RSVP=TRUE;CN="Upcoming
 Events.com":http://phillytodo.com/profile/UpcomingEventscom
END:VEVENT
END:VCALENDAR
