BEGIN:VCALENDAR
PRODID:NingEventWidget-v1
VERSION:2.0
METHOD:PUBLISH
BEGIN:VEVENT
UID:4320450:Event:45336
DTSTAMP:20260425T125035Z
SUMMARY:The Secret Garden
DESCRIPTION:Book and Lyrics by Marsha Norman\nMusic by Lucy Simon\nPro
 duction co-conceived by Jorge Cousineau and Terrence J. Nolen\nBased o
 n the novel by Frances Hodgson Burnett\nMay 12 – June 19\n\nAfter th
 e sudden death of her parents, ten year-old Mary Lennox is sent to liv
 e with an Uncle whom she’s never met. Mourning the loss of his own t
 rue love, Uncle Archibald is distant and strange. Cold, bleak Missleth
 waite Manor, haunted by spirits and secrets of the past, is no place f
 or a little girl. Strong-willed and brave-hearted, Mary finds solace i
 n a locked-up, hidden garden, and with it, a path to rebirth, proving 
 that hope can bloom from the darkest of places. Based on the beloved n
 ovel by Frances Hodgson Burnett, The Secret Garden’s heartwarming st
 ory and beautiful, soaring ballads make this Tony Award-winning musica
 l a treat for young and old alike!\n\nFor more information visit http:
 //phillytodo.com/events/the-secret-garden
DTSTART:20160513T000000Z
DTEND:20160619T230000Z
CATEGORIES:theater
LOCATION:Arden Theatre Company
WEBSITE:http://www.ardentheatre.org/
URL:http://www.ardentheatre.org/
CONTACT:(215) 922-1122
ORGANIZER;CN="Arden Theatre Company":http://phillytodo.com/profile/Ard
 enTheatreCompany
ATTACH;FMTTYPE="image/jpeg":http://storage.ning.com/topology/rest/1.0/
 file/get/3054996344?profile=original
ATTENDEE;ROLE=REQ-PARTICIPANT;PARTSTAT=ACCEPTED;RSVP=TRUE;CN="Arden Th
 eatre Company":http://phillytodo.com/profile/ArdenTheatreCompany
END:VEVENT
END:VCALENDAR
