BEGIN:VCALENDAR
PRODID:NingEventWidget-v1
VERSION:2.0
METHOD:PUBLISH
BEGIN:VEVENT
UID:4320450:Event:46917
DTSTAMP:20260425T115144Z
SUMMARY:The Schmidt’s Commons Ultimate Summer Cookout
DESCRIPTION:Come join us for the Ultimate Summer Cookout! It will be a
  fun filled day of food, cool refreshments, lawngames, sandpits, DJs p
 rovided by Creep Records Store and music from the West Philadelphia Or
 chestra. Wear your swimsuit for we’ll have ways to beat the heat wit
 h a WATER SLIDE & SLIP N’ SLIDE. You can also zip your way across th
 e Piazza on our very own ZIPLINE!\n \nFood & Refreshments provided by
  some of our own Schmidt's Commons businesses:\n \nApricot Stone\nCra
 bby Cafe & Sports Bar\nBar Ferdinand\nEl Camino Real Philadelphia\nGun
 ners Run\nSamwich NoLibs\nWahlburgers Philly\n \nAlong with Food Truc
 ks:\n \nJohnny Bravo's Seafood\nSweet Lavender\nD'Emilio's Old World 
 Ice Treats\n\nFor more information visit http://phillytodo.com/events/
 the-schmidt-s-commons-ultimate-summer-cookout
DTSTART:20160821T160000Z
DTEND:20160821T210000Z
CATEGORIES:festival
LOCATION:The Piazza at Schmidt's Commons
WEBSITE:http://www.theschmidtscommons.com
URL:http://www.theschmidtscommons.com
CONTACT:267-246-0618
ORGANIZER;CN="Aversa PR & Events":http://phillytodo.com/profile/KoryAv
 ersa277
ATTACH;FMTTYPE="image/jpeg":http://storage.ning.com/topology/rest/1.0/
 file/get/3054997110?profile=original
ATTENDEE;ROLE=REQ-PARTICIPANT;PARTSTAT=ACCEPTED;RSVP=TRUE;CN="Aversa P
 R & Events":http://phillytodo.com/profile/KoryAversa277
END:VEVENT
END:VCALENDAR
