BEGIN:VCALENDAR
PRODID:NingEventWidget-v1
VERSION:2.0
METHOD:PUBLISH
BEGIN:VEVENT
UID:4320450:Event:40549
DTSTAMP:20260425T142538Z
SUMMARY:The Rad Awards
DESCRIPTION:The first annual Rad Awards is a celebration hosted by Ra
 d-Girls.com honoring women who inspire others in the fields of technol
 ogy, media, culture and business. This not-to-be-missed award ceremony
  at The Dreaming Building will feature Bluecoat American Dry Gin coc
 ktails and light fare, music from DJ Diamond Girl and 200 of the radde
 st men and women in town.\n\nFor more information visit http://phillyt
 odo.com/events/the-rad-awards
DTSTART:20150418T230000Z
DTEND:20150419T020000Z
CATEGORIES:award, ceremony
LOCATION:The Dreaming Building
WEBSITE:
URL:
CONTACT:
ORGANIZER:Rad-Girls.com
ATTACH;FMTTYPE="image/jpeg":http://storage.ning.com/topology/rest/1.0/
 file/get/3054986913?profile=original
ATTENDEE;ROLE=REQ-PARTICIPANT;PARTSTAT=ACCEPTED;RSVP=TRUE;CN=CashmanAs
 soc:http://phillytodo.com/profile/CashmanAssoc
END:VEVENT
END:VCALENDAR
