BEGIN:VCALENDAR
PRODID:NingEventWidget-v1
VERSION:2.0
METHOD:PUBLISH
BEGIN:VEVENT
UID:4320450:Event:45509
DTSTAMP:20260425T160209Z
SUMMARY:The Rad Awards
DESCRIPTION:The Rad Awards are back by popular demand! Join us as we h
 onor outstanding women who lead in the fields of technology, media, cu
 lture, and business. This not-to-be-missed awards ceremony will featur
 e Bluecoat American Dry Gin cocktails, light fare, and 200 of the most
  rad people in town.\n\nFor more information visit http://phillytodo.c
 om/events/the-rad-awards-1
DTSTART:20160503T230000Z
DTEND:20160504T030000Z
CATEGORIES:awards, "show/drinks/technology/media/culture"
LOCATION:Stratus Rooftop Lounge
WEBSITE:http://rad-girls.ticketleap.com/the-rad-awards/
URL:http://rad-girls.ticketleap.com/the-rad-awards/
CONTACT:215-627-1060
ORGANIZER;CN=CashmanAssoc:http://phillytodo.com/profile/CashmanAssoc
ATTACH;FMTTYPE="image/jpeg":http://storage.ning.com/topology/rest/1.0/
 file/get/3054995980?profile=original
ATTENDEE;ROLE=REQ-PARTICIPANT;PARTSTAT=ACCEPTED;RSVP=TRUE;CN=CashmanAs
 soc:http://phillytodo.com/profile/CashmanAssoc
END:VEVENT
END:VCALENDAR
