BEGIN:VCALENDAR
PRODID:NingEventWidget-v1
VERSION:2.0
METHOD:PUBLISH
BEGIN:VEVENT
UID:4320450:Event:21503
DTSTAMP:20260425T160044Z
SUMMARY:The Power Shift 2011
DESCRIPTION:On Tuesday, November 22, 2011, The Power Shift invites gue
 sts to mingle and meet with the city’s young civic and business lead
 ers at the Loews Hotel for an evening of conversation, connections and
  community. The Power Shift is an organization dedicated to strengthen
 ing the next generation of Philadelphia’s business, political and ci
 vic leaders. This year’s Power Shift co-chairs are Nicole Cashman an
 d Dr. Keith Leaphart. The evening will begin at 5:30 p.m. with cocktai
 ls, dinner, and dessert and continue with the 2011 Power Shift Honoree
  Ceremony at 7:30 p.m. The Power Shift will honor six people for their
  exceptional leadership in their given field. Tickets are $150.00 per 
 person. Sponsorship opportunities are also available from $2,500 to $5
 ,000. For more information or to purchase tickets, please contact Cash
 man & Associates at 215.627.1060 or email Lauren@cashmanandassociates.
 com\n\nFor more information visit http://phillytodo.com/events/the-pow
 er-shift-2011
DTSTART:20111122T223000Z
DTEND:20111123T013000Z
CATEGORIES:business
LOCATION:Loews Hotel Philadelphia
WEBSITE:http://www.thepowershift.org
URL:http://www.thepowershift.org
CONTACT:2156271060
ORGANIZER;CN=CashmanAssoc:http://phillytodo.com/profile/CashmanAssoc
ATTACH;FMTTYPE="image/jpeg":
ATTENDEE;ROLE=REQ-PARTICIPANT;PARTSTAT=ACCEPTED;RSVP=TRUE;CN=CashmanAs
 soc:http://phillytodo.com/profile/CashmanAssoc
END:VEVENT
END:VCALENDAR
