BEGIN:VCALENDAR
PRODID:NingEventWidget-v1
VERSION:2.0
METHOD:PUBLISH
BEGIN:VEVENT
UID:4320450:Event:32603
DTSTAMP:20260425T124102Z
SUMMARY:The Power of Style with Bobbie Thomas of the TODAY Show
DESCRIPTION:Author of the new book, The Power of Style, Bobbie Thoma
 s has shared fashion and beauty advice in nearly 500 segments as the c
 urrent Style Editor for NBC’s TODAY show. She has chatted with A-lis
 ters on the red carpet for E!, co-hosted The Style Network's Fashion 
 Police, and previously penned \"The Buzz\" column in In Touch weekly f
 or over seven years. On June 19th, she is bringing all of her industry
  know-how, as well as her fashion and beauty tips and tricks to Philad
 elphia for a special girls night out book signing event! Join Bobbie 
 (aka your 'professional girlfriend'), for a meet and greet as well 
 as a Q&A session hosted by Philadelphia Style Magazine’s Editor in C
 hief, Kristine Detterline. Discover your best colors, most flattering
  clothing silhouettes, and get your book signed, all while enjoying co
 cktails and conversation, a beauty bar featuring mini manicures, blow 
 outs, and more. RSVP to rsvp@skaibluemedia.com or call 215-625-7988
 .\n\nFor more information visit http://phillytodo.com/events/the-power
 -of-style-with-bobbie-thomas-of-the-today-show
DTSTART:20130619T220000Z
DTEND:20130620T000000Z
CATEGORIES:book, "signing/author", q, "&", a
LOCATION:Skai Blue Media
WEBSITE:http://www.skaibluemedia.com
URL:http://www.skaibluemedia.com
CONTACT:215-625-7988
ORGANIZER;CN="Skai Blue Media":http://phillytodo.com/profile/SkaiBlueM
 edia
ATTACH;FMTTYPE="image/jpeg":
ATTENDEE;ROLE=REQ-PARTICIPANT;PARTSTAT=ACCEPTED;RSVP=TRUE;CN="Skai Blu
 e Media":http://phillytodo.com/profile/SkaiBlueMedia
END:VEVENT
END:VCALENDAR
