BEGIN:VCALENDAR
PRODID:NingEventWidget-v1
VERSION:2.0
METHOD:PUBLISH
BEGIN:VEVENT
UID:4320450:Event:29570
DTSTAMP:20260425T144228Z
SUMMARY:The Power of Few | Movie Premiere Party | Tantra Luxe Lounge
DESCRIPTION:  Friday March 1st marks Philadelphia's Opening Weekend o
 f \"The Power of Few\" come celebrate with the stars of the movie at t
 he Official Movie Premiere Party hosted by your local PARTYPLANT (Juve
 nile, Nicky Whelan (Hall Pass), Kim Blacklock (tenth tallest women in 
 the WORLD!))\nGET ON THE GUEST LIST FOR REDUCED ADMISSION:\nhttp://tpo
 f.eventbrite.com/\nThe BRAND NEW Tantra Luxe Lounge and Restaurant in 
 Old City has donated it's space for this one of a kind event. With exc
 lusive access to Hollywood superstars and Tantra's brand new sound sys
 tem and visual displays this will most definitely be a night to rememb
 er. Free tickets to The Power of Few Movie for the first 50 people THR
 OUGH THE DOOR, along with movie swag and other awesome handouts. THE 
 POWER OF FEW revolves around an enigmatic smuggling ring’s efforts t
 o steal a priceless artifact. The story unfolds through the unique per
 spective of five characters who cross paths on a day filled with dange
 r, hope and possible transformation.Christopher Walken, Christian Slat
 er, Q'orianka Kilcher, Anthony Anderson, Jesse Bradford, Nicky Whelan,
  Moon Bloodgood, Navid Negahban, Devon Gearhart, Jordan Prentice, Juve
 nile, Derek Richardson, Caleb Moody, Tione Johnson, Louise Linton, Kim
  Blacklock, Larry King, Dave Shackelford, Fred D'Amico.http://www.thep
 oweroffew.com/http://www.prtyplnt.com/\n\nFor more information visit h
 ttp://phillytodo.com/events/the-power-of-few-movie-premiere-party-tant
 ra-luxe-lounge
DTSTART:20130302T020000Z
DTEND:20130302T070000Z
CATEGORIES:movie, premiere, "party!"
LOCATION:Tantra Luxe Lounge & Restaurant
WEBSITE:http://tantraluxelounge.com
URL:http://tantraluxelounge.com
CONTACT:
ORGANIZER;CN="PARTYPLANT @prtyplnt":http://phillytodo.com/profile/PART
 YPLANT
ATTACH;FMTTYPE="image/jpeg":http://storage.ning.com/topology/rest/1.0/
 file/get/3054962552?profile=original
ATTENDEE;ROLE=REQ-PARTICIPANT;PARTSTAT=ACCEPTED;RSVP=TRUE;CN="PARTYPLA
 NT @prtyplnt":http://phillytodo.com/profile/PARTYPLANT
END:VEVENT
END:VCALENDAR
