BEGIN:VCALENDAR
PRODID:NingEventWidget-v1
VERSION:2.0
METHOD:PUBLISH
BEGIN:VEVENT
UID:4320450:Event:53216
DTSTAMP:20260425T131038Z
SUMMARY:The Pink Room Burlesque Presents: Twin Peaks Burlesque
DESCRIPTION:NYC’s The Pink Room Burlesque RETURNS to Philadelphia, P
 A with another big burlesque show inspired by David Lynch’s Twin Pea
 ks - this time at the Hard Rock Cafe! The Pink Room is known for its s
 ultry schoolgirls, mysterious chanteuses and sweet, sweet cherry pie. 
 This show promises to please any Twin Peaks fan or even those who have
  never seen a burlesque show before. Enjoy a full menu until midnight 
 plus drink specials throughout the night at Hard Rock.\n\nFor more inf
 ormation visit http://phillytodo.com/events/the-pink-room-burlesque-pr
 esents-twin-peaks-burlesque
DTSTART:20171112T030000Z
DTEND:20171112T060000Z
CATEGORIES:dance, and, music, event
LOCATION:Hard Rock Cafe Philadelphia
WEBSITE:http://www.hrcphillymusic.com/event/1580266-pink-room-burlesqu
 e-twin-philadelphia/
URL:http://www.hrcphillymusic.com/event/1580266-pink-room-burlesque-tw
 in-philadelphia/
CONTACT:
ORGANIZER:Hard Rock Cafe Philadelphia
ATTACH;FMTTYPE="image/jpeg":
ATTENDEE;ROLE=REQ-PARTICIPANT;PARTSTAT=ACCEPTED;RSVP=TRUE;CN=CashmanAs
 soc:http://phillytodo.com/profile/CashmanAssoc
END:VEVENT
END:VCALENDAR
