BEGIN:VCALENDAR
PRODID:NingEventWidget-v1
VERSION:2.0
METHOD:PUBLISH
BEGIN:VEVENT
UID:4320450:Event:35512
DTSTAMP:20260425T125007Z
SUMMARY:The Philly Mart Winter Pop up
DESCRIPTION:The Philly Mart is an upscale artisan market that feat
 ures original art ,artisan crafts, handmade items, antiques, vintage 
 jewelry, ceramics, housewares, and clothing.  Just in time for your
  Valentines Day shopping.   Saturday Feb 8th 11am- 6pm  Sunday Feb 9t
 h 11am- 5pm more info: http://thephillymart.com\n\nFor more informatio
 n visit http://phillytodo.com/events/the-philly-mart-winter-pop-up
DTSTART:20140208T160000Z
DTEND:20140209T220000Z
CATEGORIES:artisan, market
LOCATION:The Transfer Station
WEBSITE:http://thephillymart.com
URL:http://thephillymart.com
CONTACT:
ORGANIZER;CN="The Philly Mart":http://phillytodo.com/profile/ThePhilly
 Mart
ATTACH;FMTTYPE="image/jpeg":http://storage.ning.com/topology/rest/1.0/
 file/get/3054970732?profile=original
ATTENDEE;ROLE=REQ-PARTICIPANT;PARTSTAT=ACCEPTED;RSVP=TRUE;CN="The Phil
 ly Mart":http://phillytodo.com/profile/ThePhillyMart
END:VEVENT
END:VCALENDAR
