BEGIN:VCALENDAR
PRODID:NingEventWidget-v1
VERSION:2.0
METHOD:PUBLISH
BEGIN:VEVENT
UID:4320450:Event:7604
DTSTAMP:20260425T150055Z
SUMMARY:The Philadelphia Young Professionals Business Expo - Spring 20
 11
DESCRIPTION:The Philadelphia Young Professionals Business Expo is desi
 gned for Young Professionals to discover, learn, and sample a variety 
 of products, services, and activities offered by professional companie
 s and organizations in the Philadelphia and South Jersey area.  Atten
 dees will have an in-person experience with area products, all while i
 nteracting with sponsors & organizations.  Want to attend?  Have a c
 ompany or product and want to participate in the expo to reach over 25
 ,000 area people? Get all the Details: http://www.upcomingevents.com
 /philadelphia/youngprofessionals/businessexpo/r/ptodo/\n\nFor more inf
 ormation visit http://phillytodo.com/events/the-philadelphia-young
DTSTART:20110406T150000Z
DTEND:20110406T200000Z
CATEGORIES:business, networking
LOCATION:Shops at Liberty Place
WEBSITE:
URL:
CONTACT:856 – 438 – 6405
ORGANIZER;CN="UpcomingEvents.com":http://phillytodo.com/profile/Upcomi
 ngEventscom
ATTACH;FMTTYPE="image/jpeg":http://storage.ning.com/topology/rest/1.0/
 file/get/3054954388?profile=original
ATTENDEE;ROLE=REQ-PARTICIPANT;PARTSTAT=ACCEPTED;RSVP=TRUE;CN="Upcoming
 Events.com":http://phillytodo.com/profile/UpcomingEventscom
END:VEVENT
END:VCALENDAR
