BEGIN:VCALENDAR
PRODID:NingEventWidget-v1
VERSION:2.0
METHOD:PUBLISH
BEGIN:VEVENT
UID:4320450:Event:14903
DTSTAMP:20260425T132536Z
SUMMARY:The Philadelphia Young Professionals Business Expo - Summer 20
 11
DESCRIPTION:The Philadelphia Young Professionals Business Expo is desi
 gned for Young Professionals to discover, learn, and sample a variety 
 of products, services, and activities offered by professional companie
 s and organizations in the Philadelphia and South Jersey area. Attende
 es will have an in-person experience with area products, all while int
 eracting with sponsors & organizations. The Young Professionals Expo i
 s free to attend. This event is intended for 'Young Professionals' bet
 ween the ages of 21 and 39, People who Work or 'Play' in or around the
  Philadelphia and South Jersey area, All levels of employees, includin
 g entrepreneurs, office managers, sales reps, supervisors and those th
 at may looking for a job (you can network with people there, but note 
 that this is not an exclusive job fair). This expo is the perfect way 
 to interact with over 25,000 people that walk through the Shops and Li
 berty Place each day - eager to learn more about certain products.  W
 hy not take advantage of this amazing, unique opportunity!  You shoul
 d consider participating if you are involved in a local business, soci
 al organization, or non-profit and want to get in front of hundreds of
  new people members, clients, or customers.\n\nFor more information vi
 sit http://phillytodo.com/events/the-philadelphia-young-1
DTSTART:20110720T150000Z
DTEND:20110720T210000Z
CATEGORIES:business, expo
LOCATION:Shops at Liberty Place
WEBSITE:http://www.upcomingevents.com/philadelphia/youngprofessionals/
 businessexpo/ptodo
URL:http://www.upcomingevents.com/philadelphia/youngprofessionals/busi
 nessexpo/ptodo
CONTACT:
ORGANIZER;CN="UpcomingEvents.com":http://phillytodo.com/profile/Upcomi
 ngEventscom
ATTACH;FMTTYPE="image/jpeg":http://storage.ning.com/topology/rest/1.0/
 file/get/3054957877?profile=original
ATTENDEE;ROLE=REQ-PARTICIPANT;PARTSTAT=ACCEPTED;RSVP=TRUE;CN="Upcoming
 Events.com":http://phillytodo.com/profile/UpcomingEventscom
END:VEVENT
END:VCALENDAR
