BEGIN:VCALENDAR
PRODID:NingEventWidget-v1
VERSION:2.0
METHOD:PUBLISH
BEGIN:VEVENT
UID:4320450:Event:36368
DTSTAMP:20260425T174052Z
SUMMARY:The Philadelphia Orchestra FREE Concert
DESCRIPTION:The world-renowned Philadelphia Orchestra returns for a 7t
 h season to present another FREE Neighborhood Concert on the RiverStag
 e at the Great Plaza, presented by Wells Fargo. The concert will be fo
 llowed by a land-side fireworks display.\n\nFor more information visit
  http://phillytodo.com/events/the-philadelphia-orchestra-free-concert
DTSTART:20140702T000000Z
DTEND:20140702T020000Z
CATEGORIES:music, waterfront
LOCATION:Great Plaza at Penn's Landing
WEBSITE:http://www.delawareriverwaterfront.com/events/the-philadelphia
 -orchestra-free-2014-neighborhood-concert-at-penn-s-landing-presented-
 by-wells-fargo-2
URL:http://www.delawareriverwaterfront.com/events/the-philadelphia-orc
 hestra-free-2014-neighborhood-concert-at-penn-s-landing-presented-by-w
 ells-fargo-2
CONTACT:215-922-2386
ORGANIZER;CN="Delaware River Waterfront Corp.":http://phillytodo.com/p
 rofile/DelawareRiverWaterfrontCorp
ATTACH;FMTTYPE="image/jpeg":http://storage.ning.com/topology/rest/1.0/
 file/get/3054974298?profile=original
ATTENDEE;ROLE=REQ-PARTICIPANT;PARTSTAT=ACCEPTED;RSVP=TRUE;CN="Delaware
  River Waterfront Corp.":http://phillytodo.com/profile/DelawareRiverWa
 terfrontCorp
END:VEVENT
END:VCALENDAR
