BEGIN:VCALENDAR
PRODID:NingEventWidget-v1
VERSION:2.0
METHOD:PUBLISH
BEGIN:VEVENT
UID:4320450:Event:31954
DTSTAMP:20260425T130855Z
SUMMARY:The Philadelphia Craft Beer & Oysterfest
DESCRIPTION:Announcing the 1st Annual Philadelphia Craft Beer & Oyster
  Festival at Doc Magrogan's!  You and your friends & co-workers are i
 n for a treat as Doc's opens it's doors to the first of a summer long 
 series of festivals paired with some of the area's best food..  Inclu
 des raw oysters, an Oyster sandwiches, craft beer samples, and much mo
 re!!\n \nTickets & Full Details:  http://www.UpcomingEvents.com/eve
 nt/14454/ptodo/\n \n\nFor more information visit http://phillytodo.co
 m/events/the-philadelphia-craft-beer-oysterfest
DTSTART:20130428T170000Z
DTEND:20130428T210000Z
CATEGORIES:food, beer, dinner, charity, live, music, drinks, singles, 
 entertainment
LOCATION:Doc Magrogan's Oyster House
WEBSITE:http://www.UpcomingEvents.com/event/14454/ptodo/
URL:http://www.UpcomingEvents.com/event/14454/ptodo/
CONTACT:
ORGANIZER;CN="UpcomingEvents.com":http://phillytodo.com/profile/Upcomi
 ngEventscom
ATTACH;FMTTYPE="image/jpeg":http://storage.ning.com/topology/rest/1.0/
 file/get/3054966072?profile=original
ATTENDEE;ROLE=REQ-PARTICIPANT;PARTSTAT=ACCEPTED;RSVP=TRUE;CN="Upcoming
 Events.com":http://phillytodo.com/profile/UpcomingEventscom
END:VEVENT
END:VCALENDAR
