BEGIN:VCALENDAR
PRODID:NingEventWidget-v1
VERSION:2.0
METHOD:PUBLISH
BEGIN:VEVENT
UID:4320450:Event:41763
DTSTAMP:20260425T113130Z
SUMMARY:The Philadelphia Artists’ Collective Presents The Captive  (
 2015 Fringe Festival)
DESCRIPTION:The Philadelphia Artists’ Collective presents The Captiv
 e by Edouard Bourdet, from September 1 through 20, 2015, during the 20
 15 Philadelphia Fringe Festival. The Captive will be produced inside S
 ociety Hill’s Physick House at 321 S. 4th Street. This well-mannered
  tragedy tackles issues of sex, domesticity and class manners. Deeply 
 controversial in its time, productions of this 1926 play were censored
 , and its producers and actors jailed. Tickets are on sale now for $20
 -25 by calling (215) 413-1318 or visiting www.philartistscollective.or
 g.\n\nFor more information visit http://phillytodo.com/events/the-phil
 adelphia-artists-collective-presents-the-captive-2015
DTSTART:20150902T000000Z
DTEND:20150921T020000Z
CATEGORIES:theatre
LOCATION:Physick House
WEBSITE:http://www.philartistscollective.org/the-captive.html
URL:http://www.philartistscollective.org/the-captive.html
CONTACT:215-551-1543
ORGANIZER;CN="Aversa PR & Events":http://phillytodo.com/profile/KoryAv
 ersa277
ATTACH;FMTTYPE="image/jpeg":http://storage.ning.com/topology/rest/1.0/
 file/get/3054990185?profile=original
ATTENDEE;ROLE=REQ-PARTICIPANT;PARTSTAT=ACCEPTED;RSVP=TRUE;CN="Aversa P
 R & Events":http://phillytodo.com/profile/KoryAversa277
END:VEVENT
END:VCALENDAR
