BEGIN:VCALENDAR
PRODID:NingEventWidget-v1
VERSION:2.0
METHOD:PUBLISH
BEGIN:VEVENT
UID:4320450:Event:36502
DTSTAMP:20260425T161310Z
SUMMARY:The Philadelphia Antiques Show Preview Party 2014
DESCRIPTION:The Philadelphia Antiques Show: Antiques & Art through the
  20th Century invites patrons to its annual Preview Party celebration
  on Friday, April 25th, 2014. Guests will have the opportunity to per
 use select antiques, important art, and rare period pieces while enjoy
 ing exquisite food and bar stations located throughout the Show floor.
  The 2014 Show will help fund the Penn Center for Human Performance at
  Penn Medicine. Established in 1962, the Antiques Show is one of Ameri
 ca’s oldest and most prestigious shows and has raised nearly 20 mill
 ion dollars for Penn Medicine. The 53rd annual Show will be open to t
 he public from Saturday, April 26th 2014 to Tuesday, April 29, 2014.\
 n\nFor more information visit http://phillytodo.com/events/the-philade
 lphia-antiques-show-preview-party-2014
DTSTART:20140425T220000Z
DTEND:20140426T010000Z
CATEGORIES:arts
LOCATION:Pennsylvania Convention Center
WEBSITE:http://www.thephiladelphiaantiquesshow.org/2014-preview-party-
 2/
URL:http://www.thephiladelphiaantiquesshow.org/2014-preview-party-2/
CONTACT:610-902-2109
ORGANIZER:
ATTACH;FMTTYPE="image/jpeg":http://storage.ning.com/topology/rest/1.0/
 file/get/3054975169?profile=original
ATTENDEE;ROLE=REQ-PARTICIPANT;PARTSTAT=ACCEPTED;RSVP=TRUE;CN="Nicole C
 ashman":http://phillytodo.com/profile/NicoleCashman
END:VEVENT
END:VCALENDAR
