BEGIN:VCALENDAR
PRODID:NingEventWidget-v1
VERSION:2.0
METHOD:PUBLISH
BEGIN:VEVENT
UID:4320450:Event:49908
DTSTAMP:20260425T160911Z
SUMMARY:The Paraphernalia of Being
DESCRIPTION:Rowan University Art Gallery\nThe Paraphernalia of Being\n
 Monday, June 5 – Saturday, July 29, 2017\n \nOpening Reception\nSat
 urday, June 10, 5:00 - 7:00 p.m.\n\nThe Paraphernalia of Being featur
 es eight Philadelphia-based artists who comprise AUTOMAT Collective (S
 teve Basel, Nadine Beauharnois, Emily Elliott, Morgan Hobbs. Lucas Kel
 ly, Julia Owens, Marcelle Reinecke, Jillian Schley). Approached with 
 humor and gravity condensed and concentrated by the influences of cr
 amped apartments and noisy city life, these artists present works that
  offer glimpses of reliable conundrums and antics of the human conditi
 on. Internal dialogues become visual in this exhibition and boundaries
  of painting, printmaking and sculpture mingle. Landscapes of private 
 ruminations yield paintings of shadowy manifestations and earthly figu
 res. Twisting colorful gestures suggestive of the body are paired with
  weighty, rectilinear and stark forms offering comparisons of experien
 ce and artistic expression. Infinite space is conjured in tiny pockets
 . The works in this exhibition affirm the emotional and physical han
 g-ups of domestic life while concocting imaginative possibilities bey
 ond the purview of the everyday.\n\nFor more information visit http://
 phillytodo.com/events/the-paraphernalia-of-being
DTSTART:20170606T020000Z
DTEND:20170629T230000Z
CATEGORIES:art, exhibition
LOCATION:Rowan University Art Gallery (High Street)
WEBSITE:http://rowan.edu/artgallery
URL:http://rowan.edu/artgallery
CONTACT:856-256-4521
ORGANIZER:Mary Salvante
ATTACH;FMTTYPE="image/jpeg":http://storage.ning.com/topology/rest/1.0/
 file/get/3055003839?profile=original
ATTENDEE;ROLE=REQ-PARTICIPANT;PARTSTAT=ACCEPTED;RSVP=TRUE;CN="mary sal
 vante":http://phillytodo.com/profile/marysalvante
END:VEVENT
END:VCALENDAR
