BEGIN:VCALENDAR
PRODID:NingEventWidget-v1
VERSION:2.0
METHOD:PUBLISH
BEGIN:VEVENT
UID:4320450:Event:50405
DTSTAMP:20260425T124852Z
SUMMARY:The Oval+
DESCRIPTION:Fairmount Park Conservancy and Philadelphia Parks & Recrea
 tion will host the fifth summer of The Oval with expanded programming 
 this year called The Oval+ (Plus)presented by PNC. The Oval+ features 
 an expanded footprint and unique installations in addition to the ever
 -popular movie and music nights, food trucks, beer garden, and family-
 friendly activities. TheÂ partners have engaged a cutting-edge design 
 firm,Â PORT Urbanism of Philadelphia and Chicago, to develop an instal
 lation that will inspire people to envision future, potential uses for
  the Benjamin Franklin Parkway beyond Eakins Oval. At night, the insta
 llations â€“ some extending to 24 feet in height â€“ will be illuminat
 ed from within, creating a glowing effect. Other elements include a dy
 namic maze which will wind through the trees and a stage to accommodat
 e a changing schedule of public events large and small. Also, to conti
 nue the theme,Â nearby Aviator Park and the newly renovated Shakespear
 e Park further down the Parkway will be the site of additional Oval+ i
 nstallations and activitiesÂ from collaborating organizations like the
  Franklin Institute and Free Library of Philadelphia.\nÂ \nThe Oval+ r
 uns fromÂ July 20-August 20, Wednesdays through Sundays.\n\nHighlights
  include:\n\n\nÂ·Â Â Â Â Â Â Â The Oval Beer Garden serving hot food, 
 craft brews, wine, and cocktails\nÂ·Â Â Â Â Â Â Â Wellness Wednesdays 
 with power yoga classes by Yoga Habit and kickboxing from CKO\nÂ·Â Â Â
  Â Â Â Â Arts & Culture Thursdays featuring hip-hop classes and DJ dan
 ce parties\nÂ·Â Â Â Â Â Â Â Food & Flicks Fridays showing free popular
  movies at dusk\nÂ·Â Â Â Â Â Â Â Game Day Saturdays presenting Quizzo 
 and music jam sessions in the Beer garden\nÂ·Â Â Â Â Â Â Â Family Fun 
 Sundays with Letâ€™s Rock Recess, a kidsâ€™ DJ dance party in the Beer
  Garden\nÂ·Â Â Â Â Â Â Â Games like mini-golf, cornhole, ping-pong, an
 d giant chess and checkers\n\nÂ \n\nFor more information visit http://
 phillytodo.com/events/the-oval
DTSTART:20170720T040000Z
DTEND:20170821T035900Z
CATEGORIES:special, event
LOCATION:Benjamin Franklin Parkway
WEBSITE:
URL:
CONTACT:
ORGANIZER:Fairmount Park Conservancy and Philadelphia Parks & Recreati
 on
ATTACH;FMTTYPE="image/jpeg":http://storage.ning.com/topology/rest/1.0/
 file/get/3055004594?profile=original
ATTENDEE;ROLE=REQ-PARTICIPANT;PARTSTAT=ACCEPTED;RSVP=TRUE;CN="Cari Fei
 ler Bender":http://phillytodo.com/profile/CariFeilerBender
END:VEVENT
END:VCALENDAR
