BEGIN:VCALENDAR
PRODID:NingEventWidget-v1
VERSION:2.0
METHOD:PUBLISH
BEGIN:VEVENT
UID:4320450:Event:48002
DTSTAMP:20260425T132726Z
SUMMARY:The Old City Craft Beer & Restaurant Stroll
DESCRIPTION:Announcing The Old City Craft Beer & Restaurant Stroll wit
 h 10+ amazing bars & restaurants.  Craft beer samples, drink & food s
 pecials, dozens of craft beer options, and so much more.  An absolute
 ly incredible value and one heck of a fun afternoon with friends!  Ty
 pically we have great fall weather - perfect for a beer stroll!\nYou c
 an check in at one of the following locations and then go to all the
  other locations in any order:  Buffalo Billiards, Common Wealth, or 
 JJ BootleggersCan't make it at noon?  No problem - start any time!  
 Tickets are very affordable - early bird discount for those that buy w
 ell in advance and prices WILL INCREASE as we get close to the event o
 r selling out. Ticket sales are limited to ensure an amazingly fun exp
 erience for all and it is not too crowded. Additional discounts availa
 ble for groups of 15 or more people - email us for more info. \n\nFor
  more information visit http://phillytodo.com/events/the-old-city-craf
 t-beer-restaurant-stroll
DTSTART:20161112T170000Z
DTEND:20161112T230000Z
CATEGORIES:food, and, beer
LOCATION:Old City District
WEBSITE:http://www.upcomingevents.com/e/the-old-city-craft-beer-restau
 rant-stroll-27520/?ref=s=ptod
URL:http://www.upcomingevents.com/e/the-old-city-craft-beer-restaurant
 -stroll-27520/?ref=s=ptod
CONTACT:215-589-4163
ORGANIZER;CN="UpcomingEvents.com":http://phillytodo.com/profile/Upcomi
 ngEventscom
ATTACH;FMTTYPE="image/jpeg":http://storage.ning.com/topology/rest/1.0/
 file/get/3054998699?profile=original
ATTENDEE;ROLE=REQ-PARTICIPANT;PARTSTAT=ACCEPTED;RSVP=TRUE;CN="Upcoming
 Events.com":http://phillytodo.com/profile/UpcomingEventscom
END:VEVENT
END:VCALENDAR
