BEGIN:VCALENDAR
PRODID:NingEventWidget-v1
VERSION:2.0
METHOD:PUBLISH
BEGIN:VEVENT
UID:4320450:Event:38719
DTSTAMP:20260425T144412Z
SUMMARY:The Official Fireball Whisky Halloween Bash!
DESCRIPTION:\nHalloween 2014 in Philadelphia!  Kick off the most epic
  Halloween weekend of your life with Fireball Whisky, Philly2Night and
  UpcomingEvents.com! Join us as we transform Ladder 15 into The Hottes
 t Halloween Weekend Kick-Off Party in Philadelphia for Fireball Whisky
 's Official Halloween Bash.\n \nGet ready to enjoy a Halloween party 
 like no other including spooky specials and frightful Fireball shots &
  drinks. Haunting harmonies will be provided by the DJ Styx all night.
  This is sure to be a ghastly gathering that you do not want to miss! 
 Click the link above to check out a scorching list of specials & what 
 to expect - SEE YOU THERE!\n \nTickets & More Info:  http://www.upc
 omingevents.com/philadelphia/fireball-halloween-party/ptodo/\n\nFor mo
 re information visit http://phillytodo.com/events/the-official-firebal
 l-whisky-halloween-bash-1
DTSTART:20141031T000000Z
DTEND:20141031T060000Z
CATEGORIES:halloween, party
LOCATION:Ladder 15
WEBSITE:http://www.upcomingevents.com/philadelphia/fireball-halloween-
 party/ptodo
URL:http://www.upcomingevents.com/philadelphia/fireball-halloween-part
 y/ptodo
CONTACT:
ORGANIZER;CN="UpcomingEvents.com":http://phillytodo.com/profile/Upcomi
 ngEventscom
ATTACH;FMTTYPE="image/jpeg":
ATTENDEE;ROLE=REQ-PARTICIPANT;PARTSTAT=ACCEPTED;RSVP=TRUE;CN="Upcoming
 Events.com":http://phillytodo.com/profile/UpcomingEventscom
END:VEVENT
END:VCALENDAR
