BEGIN:VCALENDAR
PRODID:NingEventWidget-v1
VERSION:2.0
METHOD:PUBLISH
BEGIN:VEVENT
UID:4320450:Event:19808
DTSTAMP:20260425T124854Z
SUMMARY:The Nutcracker
DESCRIPTION:40th Anniversary production of the \"Nutcracker\"\nWhen: D
 ec. 3, 2011 at 7:30pm and Dec. 4, 2011 at 2:00pmWhere: The Hill School
  Center for the Arts (Beech and Sheridan Streets, Pottstown, PA 19464)
 Tickets: Adults - $20, Seniors/Students - $15**20% off for groups of 1
 0 or more.\n \nLocal Dance Company Performs Classic Based on Original
 \n \nThe Schuylkill Valley Regional Dance Company will be performing 
 a brand \"new to the area\" \"Nutcracker\" this year to celebrate its 
 40th Anniversary. Two former principal dancers from the Kirov Ballet, 
 Andrei Ustinov and Elena Martinson, will be setting choreography on th
 e Company based on the original work by Marius Petipa (originally perf
 ormed at the Kirov in 1892).\n \nThe performances will take place at 
 the Hill School Center for the Arts in Pottstown on Saturday Dec. 3rd 
 at 7:30pm, as well as on Sunday Dec. 4th at 2pm. Also, there will be s
 pecially priced matinees for school and senior citizen groups on Frida
 y, Dec. 2. Artistic Director, Michelle Jones Wurtz, will be assisting 
 the ballet masters and will be joining the cast for a special cameo ap
 pearance.\n\nThe Company performs a \"Nutcracker\" annually but this y
 ear there will be many changes to what people have become accustomed t
 o in the area. For more information, visit www.svrdc.org, or call the 
 Company at 484-941-0683. This is a holiday tradition not to be missed!
 More information:484-941-0683\nthesvrdc@yahoo.com\nwww.svrdc.org\nPurc
 hase Tickets: phone - 484-941-0683e-mail - thesvrdc@yahoo.com\nonline 
 - http://www.upcomingevents.com/tickets/185/r/REFCODE/To receive the g
 roup discount use the discount code \"Group\".\n\nFor more information
  visit http://phillytodo.com/events/the-nutcracker-1
DTSTART:20111204T190000Z
DTEND:20111204T210000Z
CATEGORIES:dance, performance
LOCATION:The Hill School for the Arts
WEBSITE:http://www.thehill.org
URL:http://www.thehill.org
CONTACT:484-941-0683
ORGANIZER:Schuylkill Valley Regional Dance Company
ATTACH;FMTTYPE="image/jpeg":http://storage.ning.com/topology/rest/1.0/
 file/get/3054957276?profile=original
ATTENDEE;ROLE=REQ-PARTICIPANT;PARTSTAT=ACCEPTED;RSVP=TRUE;CN="Christa 
 Campbell":http://phillytodo.com/profile/ChristaCampbell
END:VEVENT
END:VCALENDAR
