BEGIN:VCALENDAR
PRODID:NingEventWidget-v1
VERSION:2.0
METHOD:PUBLISH
BEGIN:VEVENT
UID:4320450:Event:33169
DTSTAMP:20260425T151400Z
SUMMARY:The Nostalgia of the Infinite: New Works by Lauren Rinaldi
DESCRIPTION:Dhyana Yoga Old City will be hosting a First Friday openin
 g on August 2nd showcasing new works by Philadelphia artist, yoga teac
 her and DY community member Lauren Rinaldi. Please join us for a beaut
 iful evening of art and refreshments!  In this exhibition, Lauren pres
 ents a series of paintings that focus on telling intricate and persona
 l stories featuring unexpected juxtapositions and contradictory condit
 ions of dreams and reality. She draws inspiration from children's book
 s, old Hollywood, art history, meditation, memories, badly written par
 anormal romance novels and asana. The visual language she uses tends t
 o be passively confrontational, intimate and seductive, yet repugnant 
 in its portrayal.   **A portion of all sales of artwork will be donate
 d to CHOP, the Children's Hospital of Philadelphia, through the Dhyana
  Yoga Seva Center  For more information about the artist, please visit
  her FB page https://www.facebook.com/LaurenRinaldiPainting, website h
 ttp://laurenmrinaldi.wix.com/artist or contact her via email at lauren
 mrinaldi@gmail.com  For more information about Dhyana Yoga and the DY 
 Seva Center, their newest studio which donates it's proceeds to charit
 y, please visit their website http://dhyana-yoga.com/\n\nFor more info
 rmation visit http://phillytodo.com/events/the-nostalgia-of-the-infini
 te-new-works-by-lauren-rinaldi
DTSTART:20130802T220000Z
DTEND:20130803T010000Z
CATEGORIES:art, exhibition
LOCATION:Dhyana Yoga Old City
WEBSITE:http://dhyana-yoga.com/category/schedules/oldcity/
URL:http://dhyana-yoga.com/category/schedules/oldcity/
CONTACT:(215) 496-0770
ORGANIZER:Lauren Rinaldi
ATTACH;FMTTYPE="image/jpeg":http://storage.ning.com/topology/rest/1.0/
 file/get/3054966360?profile=original
ATTENDEE;ROLE=REQ-PARTICIPANT;PARTSTAT=ACCEPTED;RSVP=TRUE;CN="David Ru
 nkle":http://phillytodo.com/profile/DavidRunkle
END:VEVENT
END:VCALENDAR
