BEGIN:VCALENDAR
PRODID:NingEventWidget-v1
VERSION:2.0
METHOD:PUBLISH
BEGIN:VEVENT
UID:4320450:Event:1491
DTSTAMP:20260425T124844Z
SUMMARY:THE NEXT GENERATION OF TELEVISION IS COMING TO WORLD WIDE STER
 EO
DESCRIPTION:Samsung to exclusively launch the 9000 flagship series Jun
 e 3rd 2010\n\n\nWHAT: Join World Wide Stereo, along with Samsung Elect
 ronics on Thursday, June 3, 2010 from 6-9 p.m. as they unveil the next
  generation of LED back-lit TVs – the celebrated 9000 series. Featur
 ing a first of its kind built-in 3D processor, a connected interactive
  experience and an innovative, trend-setting design, World Wide Stereo
  is the only consumer electronics retailer in the region that will be 
 offering its clientele exclusive access to this award winning technolo
 gy.\n\nThis limited engagement will offer electronics enthusiasts the 
 opportunity to get up close and personal with Samsung’s 9000 series,
  which has been hailed as the most impressive HDTV to date. World Wide
  Stereo will provide demos and discounts on these ground-breaking and 
 astonishing HDTV’s that will set a new standard for home theater pic
 ture quality and connectivity.\n\nComplementary cocktails, light bites
  & sweet endings by Louis Latour Wines, ABSOLUT Vodka, Jamie Hollander
  Catering and Antoine Amrani Chocolates.\n\nFor more information visit
  http://phillytodo.com/events/the-next-generation-of
DTSTART:20100603T220000Z
DTEND:20100604T010000Z
CATEGORIES:launch, of, samsung, 9000
LOCATION:World wide Stereo
WEBSITE:
URL:
CONTACT:215-368-5506
ORGANIZER;CN="jamie Joffe":http://phillytodo.com/profile/jamieJoffe
ATTACH;FMTTYPE="image/jpeg":
ATTENDEE;ROLE=REQ-PARTICIPANT;PARTSTAT=ACCEPTED;RSVP=TRUE;CN="jamie Jo
 ffe":http://phillytodo.com/profile/jamieJoffe
END:VEVENT
END:VCALENDAR
