BEGIN:VCALENDAR
PRODID:NingEventWidget-v1
VERSION:2.0
METHOD:PUBLISH
BEGIN:VEVENT
UID:4320450:Event:2332
DTSTAMP:20260425T132536Z
SUMMARY:The Natural Pet Expo
DESCRIPTION:Join the natural pet community for this expo complete with
  holistic, natural and organic vendors, pet games, contests, prizes, r
 affles and more!\n\nFor more information visit http://phillytodo.com/e
 vents/the-natural-pet-expo
DTSTART:20101003T140000Z
DTEND:20101003T210000Z
CATEGORIES:expo, and, fundraiser
LOCATION:Liberties Walk, North Second Street between American & Bodine
  Streets - FREE Parking at the Piazza across N. 2nd @  Germantown Aven
 ue. Below Girard and above Spring Garden in Philadelphia
WEBSITE:http://naturalpetexpo.net
URL:http://naturalpetexpo.net
CONTACT:
ORGANIZER:Bette Hanson
ATTACH;FMTTYPE="image/jpeg":
ATTENDEE;ROLE=REQ-PARTICIPANT;PARTSTAT=ACCEPTED;RSVP=TRUE;CN="The Phil
 ly Dog":http://phillytodo.com/profile/RebeccaBraglio
END:VEVENT
END:VCALENDAR
