BEGIN:VCALENDAR
PRODID:NingEventWidget-v1
VERSION:2.0
METHOD:PUBLISH
BEGIN:VEVENT
UID:4320450:Event:30807
DTSTAMP:20260425T173706Z
SUMMARY:The N Crowd 8 Year Anniversary Show
DESCRIPTION:The N Crowd turns 8 years old!\nJoin us for a great night 
 of comedy and laughs at Ruba Hall.   Our show will start a half our l
 ater then usual just in case anyone accidentally goes to our usual ven
 ue for the event.   Our show will start at 8:30 pm and ends at around
  10:00 pm.  After that, hang out with us for some dancing and some dr
 inks at Ruba Hall's cash bar.\nSince there is a cash bar, this event i
 s restricted to 21+.\n \n \nWe hope you can join us and make this a
  great night!\n\nFor more information visit http://phillytodo.com/even
 ts/the-n-crowd-8-year-anniversary-show
DTSTART:20130427T003000Z
DTEND:20130427T020000Z
CATEGORIES:comedy, show
LOCATION:Ruba Hall
WEBSITE:http://www.phillyncrowd.com
URL:http://www.phillyncrowd.com
CONTACT:215-253-4276
ORGANIZER;CN="BJ Ellis":http://phillytodo.com/profile/BJEllis
ATTACH;FMTTYPE="image/jpeg":http://storage.ning.com/topology/rest/1.0/
 file/get/3054954763?profile=original
ATTENDEE;ROLE=REQ-PARTICIPANT;PARTSTAT=ACCEPTED;RSVP=TRUE;CN="BJ Ellis
 ":http://phillytodo.com/profile/BJEllis
END:VEVENT
END:VCALENDAR
