BEGIN:VCALENDAR
PRODID:NingEventWidget-v1
VERSION:2.0
METHOD:PUBLISH
BEGIN:VEVENT
UID:4320450:Event:55060
DTSTAMP:20260425T112731Z
SUMMARY:The N Crowd - 13th Anniversary Show
DESCRIPTION:Join The N Crowd this Friday for a great night of comedy a
 t the Ruba Club as we celebrate 13 incredible years of performances.\n
 Cash Bar! Bring a friend! Bring suggestions!\nGet your ticket today an
 d we will see you there!\nYou can purchase tickets in cash at the door
  or online with a major credit card. Doors open at 7:30 pm.\nPhilly St
 yle Magazine called this show ''Philadelphia's premier improv comedy t
 roupe\" while the Philly Metro said that this troupe was \"keeping Phi
 lly funny.\" In 2008, 2010, 2013, 2016, and 2017 The N Crowd was named
  \"Best Comedy Club\" by City Voter's Hot List. Get the best 80 minute
 s of entertainment that $12 can legally buy.  You can check out the o
 fficial website for the latest news regarding shows.\nIf you like to l
 augh, then you'll love The N Crowd. \n\n*** Note. This event says from
  8 pm to 11 pm. Our show will be from 8 pm to 9:30ish pm, but we'll be
  hanging out afterwards. Stick around and have a drink with us.\n\n\nF
 or more information visit http://phillytodo.com/events/the-n-crowd-13t
 h-anniversary-show
DTSTART:20180505T000000Z
DTEND:20180505T013000Z
CATEGORIES:comedy, show
LOCATION:Ruba Club
WEBSITE:http://www.phillyncrowd.com
URL:http://www.phillyncrowd.com
CONTACT:215-253-4276
ORGANIZER:The N Crowd
ATTACH;FMTTYPE="image/jpeg":http://storage.ning.com/topology/rest/1.0/
 file/get/3054958408?profile=original
ATTENDEE;ROLE=REQ-PARTICIPANT;PARTSTAT=ACCEPTED;RSVP=TRUE;CN="BJ Ellis
 ":http://phillytodo.com/profile/BJEllis
END:VEVENT
END:VCALENDAR
