BEGIN:VCALENDAR
PRODID:NingEventWidget-v1
VERSION:2.0
METHOD:PUBLISH
BEGIN:VEVENT
UID:4320450:Event:46920
DTSTAMP:20260425T143306Z
SUMMARY:The Meigs Award Town Meeting: Environmental Education & Under-
 served Audiences
DESCRIPTION:We are thrilled to present the 2016 Henry Meigs Environmen
 tal Leadership Award, our highest honor, to Carole Williams-Green, the
  dynamic founder and president of the Cobbs Creek Community Environmen
 tal Education Center in West Philadelphia.  A former public school te
 acher and administrator, she led the multi-decade effort to rehabilita
 te the old Fairmount Park Police stables in the Cobbs Creek section of
  Fairmount Park into an environmental education center, as her vision 
 was to bring environmental education to under-served communities.  Fo
 unded in 1991, Cobbs Creek opened its doors in 2001, making this the 2
 5th anniversary of the center’s founding and the 15th of its opening
 .\nAfter being presented the award, Carole joins a panel discussion fo
 r an interactive town meeting on environmental education for under-ser
 ved audiences.\nEnjoy a reception with Carole after the town meeting.\
 n\nFor more information visit http://phillytodo.com/events/the-meigs-a
 ward-town-meeting-environmental-education-under-served
DTSTART:20161118T003000Z
DTEND:20161118T030000Z
CATEGORIES:"special event"
LOCATION:The Schuylkill Center
WEBSITE:http://www.schuylkillcenter.org/blog/event/the-meigs-award-tow
 n-meeting-environmental-education-under-served-audiences/
URL:http://www.schuylkillcenter.org/blog/event/the-meigs-award-town-me
 eting-environmental-education-under-served-audiences/
CONTACT:215-482-7300
ORGANIZER;CN="The Schuylkill Center":http://phillytodo.com/profile/Ann
 aLehrMueser
ATTACH;FMTTYPE="image/jpeg":http://storage.ning.com/topology/rest/1.0/
 file/get/3054997284?profile=original
ATTENDEE;ROLE=REQ-PARTICIPANT;PARTSTAT=ACCEPTED;RSVP=TRUE;CN="The Schu
 ylkill Center":http://phillytodo.com/profile/AnnaLehrMueser
END:VEVENT
END:VCALENDAR
