BEGIN:VCALENDAR
PRODID:NingEventWidget-v1
VERSION:2.0
METHOD:PUBLISH
BEGIN:VEVENT
UID:4320450:Event:37179
DTSTAMP:20260425T142617Z
SUMMARY:The Magnificent Seven: Part VI
DESCRIPTION:FREE FOR ALL is a stand-up comedy showcase hosted by Aaron
  Hertzog (Helium Comedy Club; 2013 WitOut Award Winner: Best Stand-up)
  and Alison Zeidman (Nominee, 2013 Philebrity Comedian of the Year). 
 FREE FOR ALL Comedy presents: The Magnificent Seven Part VI will featu
 re stand-up from some of Philly's top comedians:Tim Butterly: Helium C
 omedy Club, Caroline's on BroadwayAlex Grubard: Laughs on Fairmount, H
 elium Comedy ClubIan Fidance: The Stand, Gift HorseJoe Bell: Tight Six
 Jon DelCollo: Philly Comedy AtticDoors at 8, Show at 9\n\nFor more inf
 ormation visit http://phillytodo.com/events/the-magnificent-seven-part
 -vi
DTSTART:20140725T000000Z
DTEND:20140725T030000Z
CATEGORIES:stand-up, comedy
LOCATION:Boot & Saddle
WEBSITE:http://www.bootandsaddlephilly.com/event/616731-free-for-all-c
 omedy-philadelphia/
URL:http://www.bootandsaddlephilly.com/event/616731-free-for-all-comed
 y-philadelphia/
CONTACT:
ORGANIZER;CN="Free For All":http://phillytodo.com/profile/FreeForAll
ATTACH;FMTTYPE="image/jpeg":http://storage.ning.com/topology/rest/1.0/
 file/get/3054978063?profile=original
ATTENDEE;ROLE=REQ-PARTICIPANT;PARTSTAT=ACCEPTED;RSVP=TRUE;CN="Free For
  All":http://phillytodo.com/profile/FreeForAll
END:VEVENT
END:VCALENDAR
