BEGIN:VCALENDAR
PRODID:NingEventWidget-v1
VERSION:2.0
METHOD:PUBLISH
BEGIN:VEVENT
UID:4320450:Event:36794
DTSTAMP:20260425T142623Z
SUMMARY:The Magnificent Seven: Part V
DESCRIPTION:On Tuesday, June 17th, FREE FOR ALL Comedy presents The Ma
 gnificent Seven Part V, a stand-up comedy showcase at Boot & Saddle (1
 131 S. Broad Street). Doors open at 8pm and the show starts at 9pm. Ti
 ckets are $7.The line-up for the show includes FREE FOR ALL hosts Aaro
 n Hertzog and Alison Zeidman, along with:DOOGIE HORNERDoogie Horner h
 as won the Philly's Phunniest contest; a Best of Philly Award from Phi
 ladelphia Magazine; and Philebrity's Award for General Fabulousness. H
 e did not win when he appeared on America's Got Talent, and he is the 
 author of Everything Explained Through Flowcharts and 100 Ghosts.DARRY
 L CHARLESFinalist in Philly's Phunniest; Co-host of DTF; performer wit
 h ComedySportz PhiladelphiaMARY RADZINSKI2014 WitOut Award Winner: Bes
 t Stand-upDAN VETRANOFinalist in Philly's Phunniest; performer with sk
 etch group Dog Mountain; Audience Wrangler for Hang On with Aaron Nevi
 nsPAUL EASTONSemi-finalist in Philly's Phunniest\n\nFor more informati
 on visit http://phillytodo.com/events/the-magnificent-seven-part-v
DTSTART:20140618T000000Z
DTEND:20140618T030000Z
CATEGORIES:stand-up, comedy
LOCATION:Boot & Saddle
WEBSITE:http://www.bootandsaddlephilly.com/event/593933-free-for-all-c
 omedy-philadelphia/
URL:http://www.bootandsaddlephilly.com/event/593933-free-for-all-comed
 y-philadelphia/
CONTACT:
ORGANIZER;CN="Free For All":http://phillytodo.com/profile/FreeForAll
ATTACH;FMTTYPE="image/jpeg":
ATTENDEE;ROLE=REQ-PARTICIPANT;PARTSTAT=ACCEPTED;RSVP=TRUE;CN="Free For
  All":http://phillytodo.com/profile/FreeForAll
END:VEVENT
END:VCALENDAR
