BEGIN:VCALENDAR
PRODID:NingEventWidget-v1
VERSION:2.0
METHOD:PUBLISH
BEGIN:VEVENT
UID:4320450:Event:36631
DTSTAMP:20260425T142617Z
SUMMARY:The Magnificent Seven Part IV
DESCRIPTION:On Monday, May 26th, FREE FOR ALL Comedy presents The Magn
 ificent Seven Part IV, a stand-up comedy showcase at Boot & Saddle (11
 31 S. Broad Street). Doors open at 8pm and the show starts at 9pm. Tic
 kets are $7 â€“availableÂ Â in advance online here.\nThe line-up for t
 he show includes FREE FOR ALL hosts Aaron Hertzog and Alison Zeidman, 
 along with:\nAmir GollanÂ (Regular opening act for Louis CK)Pat HouseÂ
  (Debut comedy albumÂ Biggest ThingÂ available now on iTunes)Carolyn B
 usaÂ (Bridgetown Comedy Festival)Sidney GanttÂ (Host of theÂ Captain A
 ction Comedy Show)Alex PearlmanÂ (Finalist in the 2013 Phillyâ€™s Phun
 niest Person Contest at Helium Comedy Club)\n\nFor more information vi
 sit http://phillytodo.com/events/the-magnificent-seven-part-iv
DTSTART:20140527T000000Z
DTEND:20140527T030000Z
CATEGORIES:stand-up, comedy
LOCATION:Boot & Saddle
WEBSITE:http://www.bootandsaddlephilly.com/event/562737
URL:http://www.bootandsaddlephilly.com/event/562737
CONTACT:
ORGANIZER;CN="Free For All":http://phillytodo.com/profile/FreeForAll
ATTACH;FMTTYPE="image/jpeg":http://storage.ning.com/topology/rest/1.0/
 file/get/3054974105?profile=original
ATTENDEE;ROLE=REQ-PARTICIPANT;PARTSTAT=ACCEPTED;RSVP=TRUE;CN="Free For
  All":http://phillytodo.com/profile/FreeForAll
END:VEVENT
END:VCALENDAR
